Workbook

Sheet V-Graph Calculator
A1: V-Graph Line Balancing Calculator
A3: Machine / Equipment | B3: Rated Speed (BPH) | C3: Critical Speed (BPH) | D3: Speed Ratio | E3: V-Graph Offset | F3: Recommended Control Speed | G3: Notes
A4: Blow mould | B4: 72000 | C4: 60000 | D4: =IFERROR(B4/C4,"") -> 1.2 | E4: =IFERROR((B4-C4)/C4,"") -> 0.2 | F4: =IFERROR(C4*(1+ABS(E4)),"") -> 72000 | G4: Illustrative input
A5: oven | B5: 68000 | C5: 60000 | D5: =IFERROR(B5/C5,"") -> 1.1333333 | E5: =IFERROR((B5-C5)/C5,"") -> 0.13333333 | F5: =IFERROR(C5*(1+ABS(E5)),"") -> 68000
A6: Filler | B6: 60000 | C6: 60000 | D6: =IFERROR(B6/C6,"") -> 1 | E6: =IFERROR((B6-C6)/C6,"") -> 0 | F6: =IFERROR(C6*(1+ABS(E6)),"") -> 60000 | G6: Critical machine / baseline
A7: Capper | B7: 66000 | C7: 60000 | D7: =IFERROR(B7/C7,"") -> 1.1 | E7: =IFERROR((B7-C7)/C7,"") -> 0.1 | F7: =IFERROR(C7*(1+ABS(E7)),"") -> 66000
A8: Labeller | B8: 72000 | C8: 60000 | D8: =IFERROR(B8/C8,"") -> 1.2 | E8: =IFERROR((B8-C8)/C8,"") -> 0.2 | F8: =IFERROR(C8*(1+ABS(E8)),"") -> 72000
A9: Shrink Wrapper | B9: 70000 | C9: 60000 | D9: =IFERROR(B9/C9,"") -> 1.1666667 | E9: =IFERROR((B9-C9)/C9,"") -> 0.16666667 | F9: =IFERROR(C9*(1+ABS(E9)),"") -> 70000
A12: Critical Machine
A13: Critical Speed (units/h)
A14: Average Upstream Speed
A15: Average Downstream Speed
A16: Line Balance Indicator

Sheet Graph Data
A1: Machine | B1: Speed (units/h) | C1: Critical Baseline
A2: ='V-Graph Calculator'!A4 -> Blow mould | B2: ='V-Graph Calculator'!B4 -> 72000 | C2: ='V-Graph Calculator'!C4 -> 60000
A3: ='V-Graph Calculator'!A5 -> oven | B3: ='V-Graph Calculator'!B5 -> 68000 | C3: ='V-Graph Calculator'!C5 -> 60000
A4: ='V-Graph Calculator'!A6 -> Filler | B4: ='V-Graph Calculator'!B6 -> 60000 | C4: ='V-Graph Calculator'!C6 -> 60000
A5: ='V-Graph Calculator'!A7 -> Capper | B5: ='V-Graph Calculator'!B7 -> 66000 | C5: ='V-Graph Calculator'!C7 -> 60000
A6: ='V-Graph Calculator'!A8 -> Labeller | B6: ='V-Graph Calculator'!B8 -> 72000 | C6: ='V-Graph Calculator'!C8 -> 60000
A7: ='V-Graph Calculator'!A9 -> Shrink Wrapper | B7: ='V-Graph Calculator'!B9 -> 70000 | C7: ='V-Graph Calculator'!C9 -> 60000
